Package: ensemblVEP Version: 1.42.0 Command: /Library/Frameworks/R.framework/Resources/bin/R CMD build --keep-empty-dirs --no-resave-data ensemblVEP StartedAt: 2023-10-15 18:09:14 -0400 (Sun, 15 Oct 2023) EndedAt: 2023-10-15 18:11:29 -0400 (Sun, 15 Oct 2023) EllapsedTime: 135.2 seconds RetCode: 1 Status: ERROR PackageFile: None PackageFileSize: NA