Package: ensemblVEP Version: 1.41.1 Command: rm -rf ensemblVEP.buildbin-libdir && mkdir ensemblVEP.buildbin-libdir && /Users/biocbuild/BBS/utils/build-universal.sh ensemblVEP_1.41.1.tar.gz /Library/Frameworks/R.framework/Resources/bin/R ensemblVEP.buildbin-libdir StartedAt: 2023-02-08 08:52:58 -0500 (Wed, 08 Feb 2023) EndedAt: 2023-02-08 08:55:18 -0500 (Wed, 08 Feb 2023) EllapsedTime: 140.5 seconds RetCode: 0 Status: OK PackageFile: ensemblVEP_1.41.1.tgz PackageFileSize: 516.3 KiB