Package: enrichplot Version: 1.20.3 Command: F:\biocbuild\bbs-3.17-bioc\R\bin\R.exe CMD check --no-multiarch --install=check:enrichplot.install-out.txt --library=F:\biocbuild\bbs-3.17-bioc\R\library --no-vignettes --timings enrichplot_1.20.3.tar.gz StartedAt: 2023-10-16 01:52:11 -0400 (Mon, 16 Oct 2023) EndedAt: 2023-10-16 01:55:24 -0400 (Mon, 16 Oct 2023) EllapsedTime: 193.0 seconds RetCode: 0 Status: OK CheckDir: enrichplot.Rcheck Warnings: 0