Package: enrichplot Version: 1.20.3 Command: /home/biocbuild/bbs-3.17-bioc/R/bin/R CMD INSTALL enrichplot StartedAt: 2023-10-15 15:35:07 -0400 (Sun, 15 Oct 2023) EndedAt: 2023-10-15 15:35:32 -0400 (Sun, 15 Oct 2023) EllapsedTime: 24.5 seconds RetCode: 0 Status: OK