Package: enrichplot Version: 1.20.3 Command: /home/biocbuild/bbs-3.17-bioc/R/bin/R CMD check --install=check:enrichplot.install-out.txt --library=/home/biocbuild/bbs-3.17-bioc/R/site-library --timings enrichplot_1.20.3.tar.gz StartedAt: 2023-10-15 21:04:23 -0400 (Sun, 15 Oct 2023) EndedAt: 2023-10-15 21:07:11 -0400 (Sun, 15 Oct 2023) EllapsedTime: 168.3 seconds RetCode: 0 Status: OK CheckDir: enrichplot.Rcheck Warnings: 0