Package: enrichplot Version: 1.20.3 Command: /home/biocbuild/bbs-3.17-bioc/R/bin/R CMD build --keep-empty-dirs --no-resave-data enrichplot StartedAt: 2023-10-15 16:41:51 -0400 (Sun, 15 Oct 2023) EndedAt: 2023-10-15 16:42:17 -0400 (Sun, 15 Oct 2023) EllapsedTime: 25.9 seconds RetCode: 0 Status: OK PackageFile: enrichplot_1.20.3.tar.gz PackageFileSize: 105.4 KiB