Package: enrichplot Version: 1.20.3 Command: /Library/Frameworks/R.framework/Resources/bin/R CMD INSTALL enrichplot StartedAt: 2023-10-15 16:02:37 -0400 (Sun, 15 Oct 2023) EndedAt: 2023-10-15 16:03:58 -0400 (Sun, 15 Oct 2023) EllapsedTime: 80.9 seconds RetCode: 0 Status: OK