Package: enrichplot Version: 1.20.3 Command: /Library/Frameworks/R.framework/Resources/bin/R CMD check --install=check:enrichplot.install-out.txt --library=/Library/Frameworks/R.framework/Resources/library --no-vignettes --timings enrichplot_1.20.3.tar.gz StartedAt: 2023-10-16 01:21:44 -0400 (Mon, 16 Oct 2023) EndedAt: 2023-10-16 01:29:10 -0400 (Mon, 16 Oct 2023) EllapsedTime: 446.2 seconds RetCode: 0 Status: OK CheckDir: enrichplot.Rcheck Warnings: 0