Package: enrichplot Version: 1.20.3 Command: /Library/Frameworks/R.framework/Resources/bin/R CMD build --keep-empty-dirs --no-resave-data enrichplot StartedAt: 2023-10-15 18:08:52 -0400 (Sun, 15 Oct 2023) EndedAt: 2023-10-15 18:09:53 -0400 (Sun, 15 Oct 2023) EllapsedTime: 61.8 seconds RetCode: 0 Status: OK PackageFile: enrichplot_1.20.3.tar.gz PackageFileSize: 105.4 KiB