Package: enrichplot Version: 1.20.3 Command: rm -rf enrichplot.buildbin-libdir && mkdir enrichplot.buildbin-libdir && /Users/biocbuild/BBS/utils/build-universal.sh enrichplot_1.20.3.tar.gz /Library/Frameworks/R.framework/Resources/bin/R enrichplot.buildbin-libdir StartedAt: 2023-10-16 09:20:56 -0400 (Mon, 16 Oct 2023) EndedAt: 2023-10-16 09:22:20 -0400 (Mon, 16 Oct 2023) EllapsedTime: 83.9 seconds RetCode: 0 Status: OK PackageFile: enrichplot_1.20.3.tgz PackageFileSize: 336.6 KiB