Package: enhancerHomologSearch Version: 1.6.1 Command: F:\biocbuild\bbs-3.17-bioc\R\bin\R.exe CMD check --no-multiarch --install=check:enhancerHomologSearch.install-out.txt --library=F:\biocbuild\bbs-3.17-bioc\R\library --no-vignettes --timings enhancerHomologSearch_1.6.1.tar.gz StartedAt: 2023-10-16 01:51:18 -0400 (Mon, 16 Oct 2023) EndedAt: 2023-10-16 02:17:36 -0400 (Mon, 16 Oct 2023) EllapsedTime: 1578.4 seconds RetCode: 0 Status: WARNINGS CheckDir: enhancerHomologSearch.Rcheck Warnings: 1