Package: enhancerHomologSearch Version: 1.6.1 Command: chmod a+r enhancerHomologSearch -R && F:\biocbuild\bbs-3.17-bioc\R\bin\R.exe CMD build --keep-empty-dirs --no-resave-data enhancerHomologSearch StartedAt: 2023-10-15 18:55:35 -0400 (Sun, 15 Oct 2023) EndedAt: 2023-10-15 19:22:00 -0400 (Sun, 15 Oct 2023) EllapsedTime: 1585.6 seconds RetCode: 0 Status: OK PackageFile: enhancerHomologSearch_1.6.1.tar.gz PackageFileSize: 1.042 MiB