Package: enhancerHomologSearch Version: 1.6.1 Command: /home/biocbuild/bbs-3.17-bioc/R/bin/R CMD build --keep-empty-dirs --no-resave-data enhancerHomologSearch StartedAt: 2023-10-15 16:41:35 -0400 (Sun, 15 Oct 2023) EndedAt: 2023-10-15 16:54:38 -0400 (Sun, 15 Oct 2023) EllapsedTime: 782.9 seconds RetCode: 0 Status: OK PackageFile: enhancerHomologSearch_1.6.1.tar.gz PackageFileSize: 1.042 MiB