Package: enhancerHomologSearch Version: 1.6.1 Command: /Library/Frameworks/R.framework/Resources/bin/R CMD check --install=check:enhancerHomologSearch.install-out.txt --library=/Library/Frameworks/R.framework/Resources/library --no-vignettes --timings enhancerHomologSearch_1.6.1.tar.gz StartedAt: 2023-10-16 01:20:25 -0400 (Mon, 16 Oct 2023) EndedAt: 2023-10-16 01:48:46 -0400 (Mon, 16 Oct 2023) EllapsedTime: 1700.5 seconds RetCode: 0 Status: WARNINGS CheckDir: enhancerHomologSearch.Rcheck Warnings: 1