Package: enhancerHomologSearch Version: 1.6.1 Command: /Library/Frameworks/R.framework/Resources/bin/R CMD build --keep-empty-dirs --no-resave-data enhancerHomologSearch StartedAt: 2023-10-15 18:08:24 -0400 (Sun, 15 Oct 2023) EndedAt: 2023-10-15 18:40:31 -0400 (Sun, 15 Oct 2023) EllapsedTime: 1926.6 seconds RetCode: 0 Status: OK PackageFile: enhancerHomologSearch_1.6.1.tar.gz PackageFileSize: 1.042 MiB