Package: enhancerHomologSearch Version: 1.6.1 Command: rm -rf enhancerHomologSearch.buildbin-libdir && mkdir enhancerHomologSearch.buildbin-libdir && /Users/biocbuild/BBS/utils/build-universal.sh enhancerHomologSearch_1.6.1.tar.gz /Library/Frameworks/R.framework/Resources/bin/R enhancerHomologSearch.buildbin-libdir StartedAt: 2023-10-16 09:20:45 -0400 (Mon, 16 Oct 2023) EndedAt: 2023-10-16 09:43:16 -0400 (Mon, 16 Oct 2023) EllapsedTime: 1351.3 seconds RetCode: 0 Status: OK PackageFile: enhancerHomologSearch_1.6.1.tgz PackageFileSize: 1.938 MiB