Package: eegc Version: 1.26.0 Command: chmod a+r eegc -R && F:\biocbuild\bbs-3.17-bioc\R\bin\R.exe CMD build --keep-empty-dirs --no-resave-data eegc StartedAt: 2023-10-15 18:53:55 -0400 (Sun, 15 Oct 2023) EndedAt: 2023-10-15 18:57:16 -0400 (Sun, 15 Oct 2023) EllapsedTime: 201.3 seconds RetCode: 0 Status: OK PackageFile: eegc_1.26.0.tar.gz PackageFileSize: 9.362 MiB