Package: eegc Version: 1.26.0 Command: rm -rf eegc.buildbin-libdir && mkdir eegc.buildbin-libdir && F:\biocbuild\bbs-3.17-bioc\R\bin\R.exe CMD INSTALL --build --library=eegc.buildbin-libdir eegc_1.26.0.tar.gz StartedAt: 2023-10-16 08:44:47 -0400 (Mon, 16 Oct 2023) EndedAt: 2023-10-16 08:45:37 -0400 (Mon, 16 Oct 2023) EllapsedTime: 50.6 seconds RetCode: 0 Status: OK PackageFile: eegc_1.26.0.zip PackageFileSize: 11.25 MiB