Package: eegc Version: 1.26.0 Command: /home/biocbuild/bbs-3.17-bioc/R/bin/R CMD check --install=check:eegc.install-out.txt --library=/home/biocbuild/bbs-3.17-bioc/R/site-library --timings eegc_1.26.0.tar.gz StartedAt: 2023-10-15 21:02:50 -0400 (Sun, 15 Oct 2023) EndedAt: 2023-10-15 21:09:56 -0400 (Sun, 15 Oct 2023) EllapsedTime: 425.6 seconds RetCode: 1 Status: ERROR CheckDir: eegc.Rcheck Warnings: NA