Package: eegc Version: 1.26.0 Command: rm -rf eegc.buildbin-libdir && mkdir eegc.buildbin-libdir && /Users/biocbuild/BBS/utils/build-universal.sh eegc_1.26.0.tar.gz /Library/Frameworks/R.framework/Resources/bin/R eegc.buildbin-libdir StartedAt: 2023-10-16 09:20:19 -0400 (Mon, 16 Oct 2023) EndedAt: 2023-10-16 09:22:34 -0400 (Mon, 16 Oct 2023) EllapsedTime: 134.9 seconds RetCode: 0 Status: OK PackageFile: eegc_1.26.0.tgz PackageFileSize: 11.26 MiB