Package: edgeR Version: 3.42.4 Command: chmod a+r edgeR -R && F:\biocbuild\bbs-3.17-bioc\R\bin\R.exe CMD build --keep-empty-dirs --no-resave-data edgeR StartedAt: 2023-10-15 18:53:42 -0400 (Sun, 15 Oct 2023) EndedAt: 2023-10-15 18:56:01 -0400 (Sun, 15 Oct 2023) EllapsedTime: 139.2 seconds RetCode: 0 Status: OK PackageFile: edgeR_3.42.4.tar.gz PackageFileSize: 1.732 MiB