Package: edgeR Version: 3.42.4 Command: rm -rf edgeR.buildbin-libdir && mkdir edgeR.buildbin-libdir && F:\biocbuild\bbs-3.17-bioc\R\bin\R.exe CMD INSTALL --build --library=edgeR.buildbin-libdir edgeR_3.42.4.tar.gz StartedAt: 2023-10-16 08:44:42 -0400 (Mon, 16 Oct 2023) EndedAt: 2023-10-16 08:47:09 -0400 (Mon, 16 Oct 2023) EllapsedTime: 147.0 seconds RetCode: 0 Status: OK PackageFile: edgeR_3.42.4.zip PackageFileSize: 2.891 MiB