Package: edgeR Version: 3.42.4 Command: rm -rf edgeR.buildbin-libdir && mkdir edgeR.buildbin-libdir && /Users/biocbuild/BBS/utils/build-universal.sh edgeR_3.42.4.tar.gz /Library/Frameworks/R.framework/Resources/bin/R edgeR.buildbin-libdir StartedAt: 2023-10-16 09:20:18 -0400 (Mon, 16 Oct 2023) EndedAt: 2023-10-16 09:26:21 -0400 (Mon, 16 Oct 2023) EllapsedTime: 362.7 seconds RetCode: 0 Status: OK PackageFile: edgeR_3.42.4.tgz PackageFileSize: 2.626 MiB