Package: edge Version: 2.32.0 Command: F:\biocbuild\bbs-3.17-bioc\R\bin\R.exe CMD check --no-multiarch --install=check:edge.install-out.txt --library=F:\biocbuild\bbs-3.17-bioc\R\library --no-vignettes --timings edge_2.32.0.tar.gz StartedAt: 2023-10-16 01:47:46 -0400 (Mon, 16 Oct 2023) EndedAt: 2023-10-16 01:51:09 -0400 (Mon, 16 Oct 2023) EllapsedTime: 203.2 seconds RetCode: 0 Status: WARNINGS CheckDir: edge.Rcheck Warnings: 1