Package: edge Version: 2.32.0 Command: rm -rf edge.buildbin-libdir && mkdir edge.buildbin-libdir && F:\biocbuild\bbs-3.17-bioc\R\bin\R.exe CMD INSTALL --build --library=edge.buildbin-libdir edge_2.32.0.tar.gz StartedAt: 2023-10-16 08:44:39 -0400 (Mon, 16 Oct 2023) EndedAt: 2023-10-16 08:45:18 -0400 (Mon, 16 Oct 2023) EllapsedTime: 39.9 seconds RetCode: 0 Status: OK PackageFile: edge_2.32.0.zip PackageFileSize: 1.608 MiB