Package: edge Version: 2.32.0 Command: /home/biocbuild/bbs-3.17-bioc/R/bin/R CMD INSTALL edge StartedAt: 2023-10-15 15:35:27 -0400 (Sun, 15 Oct 2023) EndedAt: 2023-10-15 15:35:55 -0400 (Sun, 15 Oct 2023) EllapsedTime: 27.5 seconds RetCode: 0 Status: OK