Package: ecolitk Version: 1.72.0 Command: F:\biocbuild\bbs-3.17-bioc\R\bin\R.exe CMD check --no-multiarch --install=check:ecolitk.install-out.txt --library=F:\biocbuild\bbs-3.17-bioc\R\library --no-vignettes --timings ecolitk_1.72.0.tar.gz StartedAt: 2023-10-16 01:47:41 -0400 (Mon, 16 Oct 2023) EndedAt: 2023-10-16 01:48:22 -0400 (Mon, 16 Oct 2023) EllapsedTime: 41.7 seconds RetCode: 0 Status: WARNINGS CheckDir: ecolitk.Rcheck Warnings: 1