Package: ecolitk Version: 1.72.0 Command: /home/biocbuild/bbs-3.17-bioc/R/bin/R CMD check --install=check:ecolitk.install-out.txt --library=/home/biocbuild/bbs-3.17-bioc/R/site-library --timings ecolitk_1.72.0.tar.gz StartedAt: 2023-10-15 21:01:46 -0400 (Sun, 15 Oct 2023) EndedAt: 2023-10-15 21:02:35 -0400 (Sun, 15 Oct 2023) EllapsedTime: 49.0 seconds RetCode: 0 Status: WARNINGS CheckDir: ecolitk.Rcheck Warnings: 1