Package: ecolitk Version: 1.72.0 Command: rm -rf ecolitk.buildbin-libdir && mkdir ecolitk.buildbin-libdir && /Users/biocbuild/BBS/utils/build-universal.sh ecolitk_1.72.0.tar.gz /Library/Frameworks/R.framework/Resources/bin/R ecolitk.buildbin-libdir StartedAt: 2023-10-16 09:20:06 -0400 (Mon, 16 Oct 2023) EndedAt: 2023-10-16 09:20:18 -0400 (Mon, 16 Oct 2023) EllapsedTime: 11.5 seconds RetCode: 0 Status: OK PackageFile: ecolitk_1.72.0.tgz PackageFileSize: 1.874 MiB