Package: easyreporting Version: 1.12.0 Command: /Library/Frameworks/R.framework/Resources/bin/R CMD check --install=check:easyreporting.install-out.txt --library=/Library/Frameworks/R.framework/Resources/library --no-vignettes --timings easyreporting_1.12.0.tar.gz StartedAt: 2023-10-16 01:15:40 -0400 (Mon, 16 Oct 2023) EndedAt: 2023-10-16 01:16:41 -0400 (Mon, 16 Oct 2023) EllapsedTime: 60.3 seconds RetCode: 0 Status: OK CheckDir: easyreporting.Rcheck Warnings: 0