Package: easyRNASeq Version: 2.36.0 Command: rm -rf easyRNASeq.buildbin-libdir && mkdir easyRNASeq.buildbin-libdir && F:\biocbuild\bbs-3.17-bioc\R\bin\R.exe CMD INSTALL --build --library=easyRNASeq.buildbin-libdir easyRNASeq_2.36.0.tar.gz StartedAt: 2023-10-16 08:44:23 -0400 (Mon, 16 Oct 2023) EndedAt: 2023-10-16 08:45:48 -0400 (Mon, 16 Oct 2023) EllapsedTime: 85.0 seconds RetCode: 0 Status: OK PackageFile: easyRNASeq_2.36.0.zip PackageFileSize: 23.98 MiB