Package: easyRNASeq Version: 2.36.0 Command: /home/biocbuild/bbs-3.17-bioc/R/bin/R CMD check --install=check:easyRNASeq.install-out.txt --library=/home/biocbuild/bbs-3.17-bioc/R/site-library --timings easyRNASeq_2.36.0.tar.gz StartedAt: 2023-10-15 21:01:00 -0400 (Sun, 15 Oct 2023) EndedAt: 2023-10-15 21:12:44 -0400 (Sun, 15 Oct 2023) EllapsedTime: 704.0 seconds RetCode: 0 Status: OK CheckDir: easyRNASeq.Rcheck Warnings: 0