Package: easyRNASeq Version: 2.36.0 Command: /Library/Frameworks/R.framework/Resources/bin/R CMD check --install=check:easyRNASeq.install-out.txt --library=/Library/Frameworks/R.framework/Resources/library --no-vignettes --timings easyRNASeq_2.36.0.tar.gz StartedAt: 2023-10-16 01:16:03 -0400 (Mon, 16 Oct 2023) EndedAt: 2023-10-16 01:40:37 -0400 (Mon, 16 Oct 2023) EllapsedTime: 1473.9 seconds RetCode: 0 Status: OK CheckDir: easyRNASeq.Rcheck Warnings: 0