Package: easier Version: 1.6.3 Command: chmod a+r easier -R && F:\biocbuild\bbs-3.17-bioc\R\bin\R.exe CMD build --keep-empty-dirs --no-resave-data easier StartedAt: 2023-10-15 18:52:06 -0400 (Sun, 15 Oct 2023) EndedAt: 2023-10-15 18:59:58 -0400 (Sun, 15 Oct 2023) EllapsedTime: 471.4 seconds RetCode: 0 Status: OK PackageFile: easier_1.6.3.tar.gz PackageFileSize: 2.66 MiB