Package: easier Version: 1.6.3 Command: rm -rf easier.buildbin-libdir && mkdir easier.buildbin-libdir && F:\biocbuild\bbs-3.17-bioc\R\bin\R.exe CMD INSTALL --build --library=easier.buildbin-libdir easier_1.6.3.tar.gz StartedAt: 2023-10-16 08:44:19 -0400 (Mon, 16 Oct 2023) EndedAt: 2023-10-16 08:44:59 -0400 (Mon, 16 Oct 2023) EllapsedTime: 40.7 seconds RetCode: 0 Status: OK PackageFile: easier_1.6.3.zip PackageFileSize: 1.864 MiB