Package: easier Version: 1.6.3 Command: /Library/Frameworks/R.framework/Resources/bin/R CMD build --keep-empty-dirs --no-resave-data easier StartedAt: 2023-10-15 18:05:50 -0400 (Sun, 15 Oct 2023) EndedAt: 2023-10-15 18:20:59 -0400 (Sun, 15 Oct 2023) EllapsedTime: 908.5 seconds RetCode: 0 Status: OK PackageFile: easier_1.6.3.tar.gz PackageFileSize: 3.398 MiB