Package: drawProteins Version: 1.20.0 Command: /Library/Frameworks/R.framework/Resources/bin/R CMD check --install=check:drawProteins.install-out.txt --library=/Library/Frameworks/R.framework/Resources/library --no-vignettes --timings drawProteins_1.20.0.tar.gz StartedAt: 2023-10-16 01:09:40 -0400 (Mon, 16 Oct 2023) EndedAt: 2023-10-16 01:11:14 -0400 (Mon, 16 Oct 2023) EllapsedTime: 94.1 seconds RetCode: 0 Status: OK CheckDir: drawProteins.Rcheck Warnings: 0