Package: drawProteins Version: 1.20.0 Command: /Library/Frameworks/R.framework/Resources/bin/R CMD build --keep-empty-dirs --no-resave-data drawProteins StartedAt: 2023-10-15 18:04:39 -0400 (Sun, 15 Oct 2023) EndedAt: 2023-10-15 18:05:49 -0400 (Sun, 15 Oct 2023) EllapsedTime: 70.1 seconds RetCode: 0 Status: OK PackageFile: drawProteins_1.20.0.tar.gz PackageFileSize: 1.438 MiB