Package: dpeak Version: 1.12.0 Command: /home/biocbuild/bbs-3.17-bioc/R/bin/R CMD check --install=check:dpeak.install-out.txt --library=/home/biocbuild/bbs-3.17-bioc/R/site-library --timings dpeak_1.12.0.tar.gz StartedAt: 2023-10-15 20:57:04 -0400 (Sun, 15 Oct 2023) EndedAt: 2023-10-15 21:00:52 -0400 (Sun, 15 Oct 2023) EllapsedTime: 227.6 seconds RetCode: 1 Status: ERROR CheckDir: dpeak.Rcheck Warnings: NA