Package: dpeak Version: 1.12.0 Command: /home/biocbuild/bbs-3.17-bioc/R/bin/R CMD build --keep-empty-dirs --no-resave-data dpeak StartedAt: 2023-10-15 16:39:13 -0400 (Sun, 15 Oct 2023) EndedAt: 2023-10-15 16:40:41 -0400 (Sun, 15 Oct 2023) EllapsedTime: 88.2 seconds RetCode: 0 Status: OK PackageFile: dpeak_1.12.0.tar.gz PackageFileSize: 293.1 KiB