Package: dpeak Version: 1.12.0 Command: /Library/Frameworks/R.framework/Resources/bin/R CMD check --install=check:dpeak.install-out.txt --library=/Library/Frameworks/R.framework/Resources/library --no-vignettes --timings dpeak_1.12.0.tar.gz StartedAt: 2023-10-16 01:08:47 -0400 (Mon, 16 Oct 2023) EndedAt: 2023-10-16 01:18:33 -0400 (Mon, 16 Oct 2023) EllapsedTime: 586.7 seconds RetCode: 0 Status: OK CheckDir: dpeak.Rcheck Warnings: 0