Package: dpeak Version: 1.12.0 Command: rm -rf dpeak.buildbin-libdir && mkdir dpeak.buildbin-libdir && /Users/biocbuild/BBS/utils/build-universal.sh dpeak_1.12.0.tar.gz /Library/Frameworks/R.framework/Resources/bin/R dpeak.buildbin-libdir StartedAt: 2023-10-16 09:19:14 -0400 (Mon, 16 Oct 2023) EndedAt: 2023-10-16 09:22:39 -0400 (Mon, 16 Oct 2023) EllapsedTime: 205.6 seconds RetCode: 0 Status: OK PackageFile: dpeak_1.12.0.tgz PackageFileSize: 768.1 KiB