Package: doubletrouble Version: 1.0.0 Command: /Library/Frameworks/R.framework/Resources/bin/R CMD INSTALL doubletrouble StartedAt: 2023-10-15 15:55:19 -0400 (Sun, 15 Oct 2023) EndedAt: 2023-10-15 15:57:06 -0400 (Sun, 15 Oct 2023) EllapsedTime: 107.5 seconds RetCode: 0 Status: OK