Package: doubletrouble Version: 1.0.0 Command: /Library/Frameworks/R.framework/Resources/bin/R CMD build --keep-empty-dirs --no-resave-data doubletrouble StartedAt: 2023-10-15 18:03:55 -0400 (Sun, 15 Oct 2023) EndedAt: 2023-10-15 18:06:58 -0400 (Sun, 15 Oct 2023) EllapsedTime: 183.1 seconds RetCode: 0 Status: OK PackageFile: doubletrouble_1.0.0.tar.gz PackageFileSize: 4.418 MiB