Package: doubletrouble Version: 1.0.0 Command: rm -rf doubletrouble.buildbin-libdir && mkdir doubletrouble.buildbin-libdir && /Users/biocbuild/BBS/utils/build-universal.sh doubletrouble_1.0.0.tar.gz /Library/Frameworks/R.framework/Resources/bin/R doubletrouble.buildbin-libdir StartedAt: 2023-10-16 09:19:05 -0400 (Mon, 16 Oct 2023) EndedAt: 2023-10-16 09:20:51 -0400 (Mon, 16 Oct 2023) EllapsedTime: 105.6 seconds RetCode: 0 Status: OK PackageFile: doubletrouble_1.0.0.tgz PackageFileSize: 4.45 MiB