Package: doseR Version: 1.16.0 Command: chmod a+r doseR -R && F:\biocbuild\bbs-3.17-bioc\R\bin\R.exe CMD build --keep-empty-dirs --no-resave-data doseR StartedAt: 2023-10-15 18:49:34 -0400 (Sun, 15 Oct 2023) EndedAt: 2023-10-15 18:50:07 -0400 (Sun, 15 Oct 2023) EllapsedTime: 33.0 seconds RetCode: 0 Status: OK PackageFile: doseR_1.16.0.tar.gz PackageFileSize: 948.3 KiB