Package: doseR Version: 1.16.0 Command: /home/biocbuild/bbs-3.17-bioc/R/bin/R CMD build --keep-empty-dirs --no-resave-data doseR StartedAt: 2023-10-15 16:39:07 -0400 (Sun, 15 Oct 2023) EndedAt: 2023-10-15 16:39:36 -0400 (Sun, 15 Oct 2023) EllapsedTime: 29.3 seconds RetCode: 0 Status: OK PackageFile: doseR_1.16.0.tar.gz PackageFileSize: 1.283 MiB