Package: doseR Version: 1.16.0 Command: rm -rf doseR.buildbin-libdir && mkdir doseR.buildbin-libdir && /Users/biocbuild/BBS/utils/build-universal.sh doseR_1.16.0.tar.gz /Library/Frameworks/R.framework/Resources/bin/R doseR.buildbin-libdir StartedAt: 2023-10-16 09:19:00 -0400 (Mon, 16 Oct 2023) EndedAt: 2023-10-16 09:20:06 -0400 (Mon, 16 Oct 2023) EllapsedTime: 66.6 seconds RetCode: 0 Status: OK PackageFile: doseR_1.16.0.tgz PackageFileSize: 1.357 MiB