Package: doppelgangR Version: 1.28.1 Command: chmod a+r doppelgangR -R && F:\biocbuild\bbs-3.17-bioc\R\bin\R.exe CMD build --keep-empty-dirs --no-resave-data doppelgangR StartedAt: 2023-10-15 18:49:28 -0400 (Sun, 15 Oct 2023) EndedAt: 2023-10-15 18:52:37 -0400 (Sun, 15 Oct 2023) EllapsedTime: 188.9 seconds RetCode: 0 Status: OK PackageFile: doppelgangR_1.28.1.tar.gz PackageFileSize: 329.1 KiB