Package: doppelgangR Version: 1.28.1 Command: rm -rf doppelgangR.buildbin-libdir && mkdir doppelgangR.buildbin-libdir && F:\biocbuild\bbs-3.17-bioc\R\bin\R.exe CMD INSTALL --build --library=doppelgangR.buildbin-libdir doppelgangR_1.28.1.tar.gz StartedAt: 2023-10-16 08:43:35 -0400 (Mon, 16 Oct 2023) EndedAt: 2023-10-16 08:44:12 -0400 (Mon, 16 Oct 2023) EllapsedTime: 37.7 seconds RetCode: 0 Status: OK PackageFile: doppelgangR_1.28.1.zip PackageFileSize: 825.9 KiB